Workbook

Sheet Info
B2: Prädiktives Tool zur Vorbewertung von Grubenwassergeothermiestandorten
B5: Standorte verstehen. Fouling vorhersagen. Systeme optimieren.
B8: Dieses Tool dient zur initialen Bewertung und Ableitung von Optionen zur Effizienzsteigerung von geothermischebn Anlagen, die Grubenwasser als Energiequelle nutzen. Es basiert auf der Methodik, die in der Dissertation von Dr.-Ing. Lukas Oppelt am Lehrstuhl für Technische Thermodynamik an der TU Bergakademie Freiberg entwickelt wurde (Oppelt, 2026).
B15: Zweck des Tools - Ihr direkter Weg zur effizienten Grubenwärme
B38: Anleitung zur Benutzung
B41: 1. Dateneingabe: Tragen Sie im Tabellenblatt "Eingabe" die dort erforderlichen Parameter aus der Wasseranalyse und den sonstigen Betriebsparametern in die dafür vorgesehenen gelben Zellen ein. Stellen Sie sicher dass die Einheiten korrekt sind. Bei den technischen und chemischen Parametern ist die Eingabe aller Parameter erforderlich, bei den chemischen, toxischen und chemischen Parametern müssen nicht für alle Größen Werte eingetragen werden. Die Genauigkeit wird aber erhöht, je mehr Größen eingetragen werden. 2. PHREEQC-Modellierung (Optional): Die Genauigkeit der Foulingprognose kann durch die Nutzung einer PHREEQC-Modellierung erhöht werden. Im Tabellenblatt "Beispielskript Modellierung" ist ein Beispielskript hinterlegt. Die Ergebnisse können in das Tabellenblatt "Wichtungsberechnung" eingetragen werden und von dort in "Eingabe" überführt werden. 3. Ergebnisse ablesen: Nach der Eingabe werden die Ergebnisse automatisch im Tabellenblatt "Ausgabe Standortbewertung" und "Ausgabe Wärmeübertragerdesign" berechnet und angezeigt. In den gelben Feldern sind auch in diesen Blättern weitere Angaben erforderlich, z.B. zur voraussichtlichen Arbeitszahl der Wärmepumpe. Als Ausgabe erhalten Sie: - Eine Standortklassifizierung von "A+" bis "H" (Tabellenblatt "Ausgabe Standortbewertung") - Eine Foulingprognose zur potenziellen Reduktion des verfügbaren Wärmestroms aus dem Grubenwasser über die Betriebszeit (Tabellenblatt "Ausgabe - Standortbewertung") - Eine Empfehlung für das optimale Wärmeübertragermaterial oder eine Beschichtung mit einer daraus resultierenden potenziellen Reduktion des Foulings - (Tabellenblatt "Ausgabe Wärmeübertragerdesign") Eine ausführliche Anleitung kann unter: (bald verfügbar) heruntergeladen werden.
B63: Wichtige Hinweise und Haftungsausschuss
B66: Prädiktiver Charakter: Dieses Tool liefert eine *Prognose* auf Basis eines vereinfachten Modells. Die Ergebnisse sind als Orientierungshilfe zu verstehen und stellen keine garantierten Werte dar. Gültigkeitsbereich: Die dem Tool zugrundeliegende Methodik wurde an 7 verschiedenen Standorten validiert. Bei Standorten mit stark abweichenden hydrogeochemischen Bedingungen können die Ergebnisse ungenauer sein. Kein Ersatz für Detailplanung: Dieses Tool ersetzt nicht die Notwendigkeit einer detaillierten, standortspezifischen Eignungsprüfung und ingenieurtechnischen Fachplanung. Es dient dazu, die Anzahl potenzieller Standorte auf die vielversprechendsten einzugrenzen, bevor kostenintensive Studien beauftragt werden. Die Nutzung der Ergebnisse erfolgt auf eigene Verantwortung.
B76: Lizenz: Das Tool wird unter der CC BY-NC-SA 4.0-Lizenz veröffentlicht. Den vollständigen Lizenztext finden Sie hier: | K76: =HYPERLINK("https://creativecommons.org/licenses/by-nc-sa/4.0/legalcode.de"," CC BY-NC-SA 4.0-Lizenz") -> CC BY-NC-SA 4.0-Lizenz
B79: Wissenschaftlicher Hintergrund
B82: Die vollständige Beschreibung der Methodik, der Berechnungsgrundlagen, der Validierung sowie der Grenzen des Modells finden Sie in der folgenden wissenschaftlichen Arbeit: Oppelt, L. (2026). Entwicklung und Validierung eines prädiktiven Tools für die Charakterisierung und Effiziensteigerung von Grubenwassergeothermiestandorten. Dissertation, TU Bergakdemie Freiberg
B89: Kontakt und Version
B93: Autor: Dr.-Ing. Lukas Oppelt Version: 1.1. (Stand: April 2026)
F97: Kontakt: | G97: tool@grubenwassergeothermie.de
E99: Copyright © 2026, Lukas Oppelt, Lizenziert unter | I99: CC BY-NC-SA 4.0-Lizenz

Sheet Eingabe
C2: Wärmeübertrager
C3: Wärmeübertrager vorhanden? | E3: TRUE | R3: =IF(E3=TRUE,1,2) -> 1
C5: =IF(AND(E3=TRUE,OR(E12<>0,E13=1)),"Bitte Wärmeübertrager auswählen oder eigene Abmaße eintragen",IF(AND(E3=FALSE,E12<>0),"Bitte Wärmeübertrager auswählen oder eigene Abmaße eintragen","Wärmeübertrager definiert")) -> Wärmeübertrager definiert
D6: TRANTER TB050 | E6: Rechenwerte Wärmeübertrager
C7: Länge Platte in m | D7: 2.8 | E7: =VLOOKUP(D6,Waermeuebertrager!C5:H34,3,FALSE) -> 0.496
C8: Breite Platte in m | D8: 0.3 | E8: =VLOOKUP(D6,Waermeuebertrager!C5:H34,4,FALSE) -> 0.496 | Z8: Druck | AA8: 1.03
C9: Wellenlänge Λ in m | D9: 0.009 | E9: =VLOOKUP(D6,Waermeuebertrager!C5:H34,5,FALSE) -> 0.009 | Z9: Temperatur | AA9: =D24 -> 12.2
C10: Profilamplitude α in m | D10: 0.0013 | E10: =VLOOKUP(D6,Waermeuebertrager!C5:H34,6,FALSE) -> 0.001 | Z10: Ausgabe
C11: =IF(E3=TRUE,"Plattenanzahl","") -> Plattenanzahl | D11: 17 | E11: =D11 -> 17
E12: =IF(AND(E7<>0,E8<>0,E9<>0,E10<>0),0,1) -> 0
A13: TRUE | E13: =IF(E11<>0,0,1) -> 0
A14: TRUE
D16: Technische Parameter | H16: Chemische Parameter
C17: Parameter | D17: Temperatur | E17: Volumenstrom | F17: Umgebungsdruck | G17: Parameter | H17: pH-Wert | I17: Fe | J17: As | K17: Mn | L17: Al | M17: Zn | N17: pε (Konzentration redoxwirksame Spezies) | R17: Sauerstoff
F19: Keine Bewertung, nur Rechenwert | G19: Rahmenpunkte ⭢ 5 Pkt. | H19: 9.5 | I19: 200 | J19: 10 | K19: 50 | L19: 200 | M19: 4000 | N19: Keine Bewertung, Eingangswert für die Berechnung der Wichtung | R19: Keine Bewertung, Eingangswert für die Berechnung der Wichtung
G20: Rahmenpunkte ⭢ 10 Pkt. | H20: 6.5 | I20: 0 | J20: 0 | K20: 0 | L20: 0 | M20: 0
C22: Wichtung | I22: 12.814367 | J22: 1 | K22: 10.509978 | L22: 3.8712778 | M22: 1 | O22: Eingabewert PHREEQC: pε | S22: Eingabewert PHREEQC: Partialdruck Sauerstoff
C23: Wert gegeben? | D23: =IF(D24>0,"Wert vorhanden",IF(D24<0,"Wert über 0 eingeben","Wert eingeben")) -> Wert vorhanden | E23: =IF(E24>0,"Wert vorhanden",IF(E24<0,"Wert über 0 eingeben","Wert eingeben")) -> Wert vorhanden | F23: =IF(F24>0,"Wert vorhanden",IF(F24<0,"Wert über 0 eingeben","Wert eingeben")) -> Wert vorhanden | H23: =IF(H24>0,"Wert vorhanden",IF(H24<=0,"Wert über 0 eingeben","Wert eingeben")) -> Wert vorhanden | I23: =IF(I24>0,"Wert vorhanden",IF(I24<=0,"Wert über 0 eingeben","Wert eingeben")) -> Wert vorhanden | J23: =IF(J24>0,"Wert vorhanden",IF(J24<=0,"Wert über 0 eingeben","Wert eingeben")) -> Wert vorhanden | K23: =IF(K24>0,"Wert vorhanden",IF(K24<=0,"Wert über 0 eingeben","Wert eingeben")) -> Wert vorhanden | L23: =IF(L24>0,"Wert vorhanden",IF(L24<=0,"Wert über 0 eingeben","Wert eingeben")) -> Wert vorhanden | M23: =IF(M24>0,"Wert vorhanden",IF(M24<=0,"Wert über 0 eingeben","Wert eingeben")) -> Wert vorhanden | N23: =IF(N24>0,"Wert vorhanden",IF(N24<=0,"Wert über 0 eingeben","Wert eingeben")) -> Wert vorhanden | O23: Starttemperatur | P23: Heizen | Q23: Kühlen | R23: =IF(AND(R24>0,R24<=R27),"Wert vorhanden",IF(R24<0,"Wert über 0 eingeben",IF(R24>R27,"Wert über maximaler Löslichkeit","Wert eingeben"))) -> Wert vorhanden | S23: Starttemperatur | T23: Heizen | U23: Kühlen
C24: Eingabe | D24: 12.2 | E24: 300 | F24: 1.01325 | H24: 7.61 | I24: 690 | J24: 12 | K24: 70 | L24: 20 | M24: 100 | N24: 2 | O24: =Zwischenrechnungen!B11 -> 2 | P24: =Zwischenrechnungen!D11 -> 2.0346492 | Q24: =Zwischenrechnungen!E11 -> 1.9746855 | R24: 5 | S24: =Zwischenrechnungen!F27 -> 0.09755389 | T24: =Zwischenrechnungen!D28 -> 0.088022587 | U24: =Zwischenrechnungen!D29 -> 0.10814663
D25: Anwendungsfall | I25: Für die Bewertung der Stoffkonzentrationen ist es möglich über eine unterstützende PHREEQC-Modellierung eine Wichtung zu berechnen. Ein Beispielskript für die Modellierung ist im Blatt "Beispielskript Modellierung" hinterlegt | R25: Max. gelöster Sauerstoff bei Standortbedingungen: | S25: =0.98692326671601*S24 -> 0.096278204 | T25: =Zwischenrechnungen!F28 -> 0.086871539 | U25: =Zwischenrechnungen!F29 -> 0.10673243
C26: Heizanwendung? | D26: Delta T: | E26: 6.2
C27: Kühlanwendung? | D27: Delta T: | E27: 5 | R27: {=INDEX('Löslichkeitstabelle-Wasser-I'!A5:UT86,MATCH(Eingabe!D24,Löslichkeitstabelle_Wasser_I[[#All],[Column1]],1),MATCH(Eingabe!F24,'Löslichkeitstabelle-Wasser-I'!B4:UT4,1))} -> 10.83 | S27: =Zwischenrechnungen!D35 -> 0.21410147 | T27: =Zwischenrechnungen!D36 -> 0.19065692 | U27: =Zwischenrechnungen!D37 -> 0.2342456
I28: Wichtung gewünscht? | K28: TRUE | S28: =0.98692326671601*S27 -> 0.21130173 | T28: =Zwischenrechnungen!F36 -> 0.18816375 | U28: =Zwischenrechnungen!F37 -> 0.23118243
D31: Biologische Parameter | R31: Toxizität
D32: Organische Bestandteile | F32: Anorganische Nährstoffe | I32: Verfügbare Energie | M32: Bakterientests | R32: Elementgehalte | U32: Summenparameter | W32: Bakterien
C33: Parameter | D33: TOC | E33: DOC | F33: Sulfat | G33: Nitrat | H33: Phosphat | I33: Redox-Potenzial | J33: Elektronenakzeptor (O2) | K33: Elektronendonor | M33: Bakterientest allgemein | N33: Schleimbildende Bakterien allgemein | O33: Eisenreduzierende Bakterien | P33: Sulfatreduzierende Bakterien | Q33: Parameter | R33: U | S33: Cd | T33: Pb | U33: PAK | V33: PCB | W33: Coliforme Bakterien | X33: P.aeruginosa
C34: Rahmenpunkte ⭢ 5 Pkt. | D34: 7 | E34: 2.5 | F34: 250 | G34: 50 | H34: 0.07 | I34: 300 | J34: =R27/2 -> 5.415 | K34: =IF(L37="Größe nicht berücksichtigt",I19/1000,I19/1000+F34) -> 0.2 | M34: =Punkteberechnung!$B$11 -> Sehr hoch (≥10^6 CFU/ml) | N34: =Punkteberechnung!$B$11 -> Sehr hoch (≥10^6 CFU/ml) | O34: =Punkteberechnung!$B$11 -> Sehr hoch (≥10^6 CFU/ml) | P34: =Punkteberechnung!$B$11 -> Sehr hoch (≥10^6 CFU/ml) | Q34: Rahmenpunkte ⭢ 5 Pkt. | R34: 10 | S34: 3 | T34: 10 | U34: 0.1 | V34: 0.01 | W34: =Punkteberechnung!$B$11 -> Sehr hoch (≥10^6 CFU/ml) | X34: =Punkteberechnung!$B$11 -> Sehr hoch (≥10^6 CFU/ml)
C35: Rahmenpunkte ⭢ 10 Pkt. | D35: 0 | E35: 0 | F35: 0 | G35: 0 | H35: 0 | I35: 0 | J35: 0 | K35: 0 | M35: Keine | N35: Keine | O35: Keine | P35: Keine | Q35: Rahmenpunkte ⭢ 10 Pkt. | R35: 0 | S35: 0 | T35: 0 | U35: 0 | V35: 0 | W35: Keine | X35: Keine
K36: Eisen | L36: Schwefel
C37: Wert gegeben? | D37: =IF(D38>0,"Wert vorhanden","Größe nicht berücksichtigt") -> Wert vorhanden | E37: =IF(E38>0,"Wert vorhanden","Größe nicht berücksichtigt") -> Größe nicht berücksichtigt | F37: =IF(F38>0,"Wert vorhanden","Größe nicht berücksichtigt") -> Wert vorhanden | G37: =IF(G38>0,"Wert vorhanden","Größe nicht berücksichtigt") -> Größe nicht berücksichtigt | H37: =IF(H38>0,"Wert vorhanden","Größe nicht berücksichtigt") -> Größe nicht berücksichtigt | I37: =IF(I38>0,"Wert vorhanden","Größe nicht berücksichtigt") -> Wert vorhanden | J37: =IF(J38>0,"Wert vorhanden","Größe nicht berücksichtigt") -> Wert vorhanden | K37: =IF(K38>0,"Wert vorhanden","Größe nicht berücksichtigt") -> Wert vorhanden | L37: =IF(L38>0,"Wert vorhanden","Größe nicht berücksichtigt") -> Größe nicht berücksichtigt | M37: =IF(M38="Kein Test durchgeführt","Größe nicht berücksichtigt","Wert vorhanden") -> Wert vorhanden | N37: =IF(N38="Kein Test durchgeführt","Größe nicht berücksichtigt","Wert vorhanden") -> Wert vorhanden | O37: =IF(O38="Kein Test durchgeführt","Größe nicht berücksichtigt","Wert vorhanden") -> Wert vorhanden | P37: =IF(P38="Kein Test durchgeführt","Größe nicht berücksichtigt","Wert vorhanden") -> Wert vorhanden | R37: =IF(R38>0,"Wert vorhanden","Größe nicht berücksichtigt") -> Wert vorhanden | S37: =IF(S38>0,"Wert vorhanden","Größe nicht berücksichtigt") -> Wert vorhanden | T37: =IF(T38>0,"Wert vorhanden","Größe nicht berücksichtigt") -> Wert vorhanden | U37: =IF(U38>0,"Wert vorhanden","Größe nicht berücksichtigt") -> Größe nicht berücksichtigt | V37: =IF(V38>0,"Wert vorhanden","Größe nicht berücksichtigt") -> Größe nicht berücksichtigt | W37: =IF(W38="Kein Test durchgeführt","Größe nicht berücksichtigt","Wert vorhanden") -> Größe nicht berücksichtigt | X37: =IF(X38="Kein Test durchgeführt","Größe nicht berücksichtigt","Wert vorhanden") -> Wert vorhanden
C38: Eingabe | D38: 2.5 | F38: 560 | I38: =IF(K28=TRUE,Zwischenrechnungen!B12) -> 113.26019 | J38: 12 | K38: =I24/1000 -> 0.69 | M38: Sehr hoch (≥10^6 CFU/ml) | N38: Moderat (≥10^4 <10^6 CFU/ml) | O38: Sehr hoch (≥10^6 CFU/ml) | P38: Sehr hoch (≥10^6 CFU/ml) | R38: 0.1 | S38: 3 | T38: 10 | W38: Kein Test durchgeführt | X38: Tests negativ
D41: Wirtschaftliche Parameter
D42: Energiequelle Grubenwasser | G42: Abnehmerstruktur | M42: Kosten
C43: Parameter | D43: Temperatur | E43: Volumenstrom | F43: Bohrtiefe | G43: Parameter | H43: Leistung Heizen | I43: Leistung Kühlen | J43: Volllaststunden Heizen | K43: Volllaststunden Kühlen | L43: Belegungsdichte Nahwärmenetz | M43: Wirtschaftlich-keitsbetrachtung durchgeführt? | N43: Parameter | O43: Amortisationsdauer | P43: Strompreis | Q43: Vergleichender Energieträger
C44: Rahmenpunkte ⭢ 2,5 Pkt. | D44: 12.9 | E44: 21 | F44: 745 | G44: Rahmenpunkte ⭢ 2,5 Pkt. | H44: 100 | I44: 100 | J44: Keine Bewertung, nur Rechenwert | K44: Keine Bewertung, nur Rechenwert | L44: 1500 | N44: Rahmenpunkte ⭢ 0 Pkt. | O44: 20 | P44: Keine Bewertung, nur Rechenwert | Q44: Keine Bewertung, nur Rechenwert
C45: Rahmenpunkte ⭢ 5 Pkt. | D45: 16.4 | E45: 108 | F45: 320 | G45: Rahmenpunkte ⭢ 5 Pkt. | H45: 740 | I45: 740 | L45: 2000 | N45: Rahmenpunkte ⭢ 10 Pkt. | O45: 5
C46: Rahmenpunkte ⭢ 7,5 Pkt. | D46: 25.5 | E46: 402 | F46: 140 | G46: Rahmenpunkte ⭢ 7,5 Pkt. | H46: 3500 | I46: 3500 | L46: 2500
R47: Energiepreis
C48: Wert gegeben? | D48: Übernahme aus Technischen Parametern | F48: =IF(F49>=0,"Wert vorhanden",IF(F49<0,"Wert von mindestens 0 eingeben","Wert eingeben")) -> Wert vorhanden | H48: =IF(H49>0,"Wert vorhanden",IF(H49<0,"Wert über 0 eingeben","Wert eingeben")) -> Wert vorhanden | I48: =IF(I49>0,"Wert vorhanden",IF(I49<0,"Wert über 0 eingeben","Wert eingeben")) -> Wert vorhanden | J48: =IF(J49>0,"Wert vorhanden",IF(J49<0,"Wert über 0 eingeben","Wert eingeben")) -> Wert vorhanden | K48: =IF(K49>0,"Wert vorhanden",IF(K49<0,"Wert über 0 eingeben","Wert eingeben")) -> Wert vorhanden | L48: =IF(L49>0,"Wert vorhanden","Größe nicht berücksichtigt") -> Wert vorhanden | O48: =IF(O49>0,"Wert vorhanden",IF(O49<0,"Wert über 0 eingeben","Wert eingeben")) -> Wert eingeben | P48: =IF(P49>0,"Wert vorhanden",IF(P49<0,"Wert über 0 eingeben","Wert eingeben")) -> Wert vorhanden | Q48: =IF(Q49>0,"Wert vorhanden",IF(Q49<0,"Wert über 0 eingeben","Wert eingeben")) -> Wert vorhanden | R48: =IF(R49>0,"Wert vorhanden",IF(R49<0,"Wert über 0 eingeben","Wert eingeben")) -> Wert vorhanden
C49: Eingabe | D49: =D24 -> 12.2 | E49: =E24 -> 300 | F49: 0 | H49: =E24/3600*4190*997*E26/1000 -> 2158.3388 | I49: =E24/3600*4190*997*E27/1000 -> 1740.5958 | J49: 2000 | K49: 2000 | L49: 3000 | M49: TRUE | P49: 0.32 | Q49: Erdgas | R49: =VLOOKUP(Q49,Punkteberechnung!B40:C44,2,FALSE) -> 0.167

Sheet Ausgabe Standortbewertung
B1: Ausgabe Standortbewertung
B3: Standort: | E3: Teststandort | H3: Standort-klassifizierung | W3: Standortklassifizierung
B4: Gesamtbewertung | W4: Wirthschaftlich | X4: Toxisch | Y4: Wärmeübertrager
H5: =W17 -> D | Q5: =B32-B29 -> 0.1 | R5: =C32-C29 -> 0.098060518 | S5: =D32-D29 -> 0.33510582 | T5: =E32-E29 -> 0.25125 | U5: =F32-F29 -> 0.072930485 | W5: =F29 -> 0.7260531 | X5: =E29 -> 0.74875 | Y5: =-C99 -> 0.52106659 | AB5: A+ | AC5: A | AD5: B | AE5: C | AF5: D | AG5: E | AH5: F | AI5: G | AJ5: H
B6: Absolute Bewertung: | D6: =SUM(B21:F21) -> 135.11345 | E6: von | F6: =SUM(B23:F23) -> 280 | Q6: =B29-B31 -> 0.1 | R6: =C29-C31 -> 0.098060518 | S6: =D29-D31 -> 0.2369624 | T6: =E29-E31 -> 0.51117143 | U6: =F29-F31 -> -0.02230761 | W6: =IF(W5>90%,"A+",IF(AND(W5<=90%,W5>80%),"A",IF(AND(W5<=80%,W5>70%),"B",IF(AND(W5<=70%,W5>60%),"C",IF(AND(W5<=60%,W5>50%),"D",IF(AND(W5<=50%,W5>40%),"E",IF(AND(W5<=40%,W5>30%),"F",IF(AND(W5<=30%,W5>20%),"G",IF(W5<20%,"H",""))))))))) -> B | X6: =IF(X5>90%,"A+",IF(AND(X5<=90%,X5>80%),"A",IF(AND(X5<=80%,X5>70%),"B",IF(AND(X5<=70%,X5>60%),"C",IF(AND(X5<=60%,X5>50%),"D",IF(AND(X5<=50%,X5>40%),"E",IF(AND(X5<=40%,X5>30%),"F",IF(AND(X5<=30%,X5>20%),"G",IF(X5<20%,"H",""))))))))) -> B | Y6: =IF(AND(Y5<=5%,Y5>0%),"A+",IF(AND(Y5<=10%,Y5>5%),"A",IF(AND(Y5<=15%,Y5>10%),"B",IF(AND(Y5<=20%,Y5>15%),"C",IF(AND(Y5<=30%,Y5>20%),"D",IF(AND(Y5<=40%,Y5>30%),"E",IF(AND(Y5<=50%,Y5>40%),"F",IF(AND(Y5<=60%,Y5>50%),"G",IF(Y5>60%,"H",""))))))))) -> G
B7: Relative Bewertung: | D7: =D6/F6 -> 0.48254802 | W7: SF_r | X7: =IF(Y6="A+",0.95,IF(Y6="A",0.85,IF(Y6="B",0.75,IF(Y6="C",0.65,IF(Y6="D",0.55,IF(Y6="E",0.45,IF(Y6="F",0.35,IF(Y6="G",0.25,IF(Y6="H",0.1,""))))))))) -> 0.25 | Y7: SF_real | Z7: =1-Y5 -> 0.47893341
B8: Standortklassifizierung | X8: unten | Y8: =IF(Z7<40%,Z7,"")
X9: oben | Y9: =IF(Z7>80%,Z7,120%) -> 1.2
V16: 1 | W16: =W5*0.4+X5*0.2+X7*0.4 -> 0.54017124
B17: Bewertung Kategorien | V17: Gesamtstandort: | W17: =IF(W16>90%,"A+",IF(AND(W16<=90%,W16>80%),"A",IF(AND(W16<=80%,W16>70%),"B",IF(AND(W16<=70%,W16>60%),"C",IF(AND(W16<=60%,W16>50%),"D",IF(AND(W16<=50%,W16>40%),"E",IF(AND(W16<=40%,W16>30%),"F",IF(AND(W16<=30%,W16>20%),"G",IF(W16<20%,"H",""))))))))) -> D
V18: Wert unten | W18: =IF(W16<20%,W16,120%) -> 1.2
B19: Technisch | C19: Chemisch | D19: Biologisch | E19: Toxisch | F19: Wirtschaftlich
B20: Absolute Bewertung: | T20: Volumenstrom
B21: =Punkteberechnung!G19 -> 10.15873 | C21: =IF(Eingabe!K28=TRUE,Punkteberechnung!K32,Punkteberechnung!M18) -> 22.854383 | D21: =Punkteberechnung!X19 -> 21.326616 | E21: =Punkteberechnung!AX19 -> 29.95 | F21: =Punkteberechnung!BN19 -> 50.823717
B22: von | C22: von | D22: von | E22: von | F22: von | J22: Abb. 1 Relative Bewertung der Kategorien mit den jeweiligen Unsicherheiten
B23: 20 | C23: 60 | D23: =Punkteberechnung!X20 -> 90 | E23: =Punkteberechnung!AX20 -> 40 | F23: =Punkteberechnung!BN20 -> 70 | T23: Eisen | U23: Arsen | V23: Mangan | W23: Aluminium | X23: Zink | Y23: TOC | Z23: DOC | AA23: Sulfat | AB23: Nitrat | AC23: Phosphat | AD23: Uran | AE23: Cadmium | AF23: Blei | AG23: PAK | AH23: PCB
B24: Unsicherheit | T24: =IF(Punkteberechnung!M17<>0,Punkteberechnung!M17,"") -> 3.45 | U24: =IF(Punkteberechnung!O17<>0,Punkteberechnung!O17,"") -> 1.2 | V24: =IF(Punkteberechnung!Q17<>0,Punkteberechnung!Q17,"") -> 1.4 | W24: =IF(Punkteberechnung!S17<>0,Punkteberechnung!S17,"") -> 0.1 | X24: =IF(Punkteberechnung!U17<>0,Punkteberechnung!U17,"") -> 0.025 | Y24: =IF(Punkteberechnung!X17<>0,Punkteberechnung!X17,"") -> 0.35714286 | Z24: =IF(Punkteberechnung!Z17<>0,Punkteberechnung!Z17,"") | AA24: =IF(Punkteberechnung!AB17<>0,Punkteberechnung!AB17,"") -> 2.24 | AB24: =IF(Punkteberechnung!AD17<>0,Punkteberechnung!AD17,"") | AC24: =IF(Punkteberechnung!AF17<>0,Punkteberechnung!AF17,"") | AD24: =IF(Punkteberechnung!AX17<>0,Punkteberechnung!AX17,"") -> 0.01 | AE24: =IF(Punkteberechnung!AZ17<>0,Punkteberechnung!AZ17,"") -> 1 | AF24: =IF(Punkteberechnung!BB17<>0,Punkteberechnung!BB17,"") -> 1 | AG24: =IF(Punkteberechnung!BD17<>0,Punkteberechnung!BD17,"") | AH24: =IF(Punkteberechnung!BF17<>0,Punkteberechnung!BF17,"")
A25: Minimum | B25: =Punkteberechnung!G45 -> 8.1587302 | C25: =IF(Eingabe!K28=TRUE,Punkteberechnung!K49*60,Punkteberechnung!K47*60) -> 16.970752 | D25: =Punkteberechnung!W45*Punkteberechnung!X20 -> 0 | E25: =Punkteberechnung!AW45*Punkteberechnung!AX20 -> 9.5031429 | F25: =Punkteberechnung!BN45*Punkteberechnung!BN20 -> 52.38525 | T25: =Eingabe!E24*24 -> 7200 | U25: =Eingabe!E24*24 -> 7200 | V25: =Eingabe!E24*24 -> 7200 | W25: =Eingabe!E24*24 -> 7200 | X25: =Eingabe!E24*24 -> 7200 | Y25: =Eingabe!E24*24 -> 7200 | Z25: =Eingabe!E24*24 -> 7200 | AA25: =Eingabe!E24*24 -> 7200 | AB25: =Eingabe!E24*24 -> 7200 | AC25: =Eingabe!E24*24 -> 7200 | AD25: =Eingabe!E24*24 -> 7200 | AE25: =Eingabe!E24*24 -> 7200 | AF25: =Eingabe!E24*24 -> 7200 | AG25: =Eingabe!E24*24 -> 7200 | AH25: =Eingabe!E24*24 -> 7200
A26: Maximum | B26: =Punkteberechnung!G46 -> 12.15873 | C26: =IF(Eingabe!K28=TRUE,Punkteberechnung!K50*60,Punkteberechnung!K48*60) -> 28.738014 | D26: =Punkteberechnung!W46*Punkteberechnung!X20 -> 51.48614 | E26: =Punkteberechnung!AW46*Punkteberechnung!AX20 -> 40 | F26: =Punkteberechnung!BN46*Punkteberechnung!BN20 -> 55.928851
B28: Relative Bewertung
B29: =B21/B23 -> 0.50793651 | C29: =C21/C23 -> 0.38090638 | D29: =D21/D23 -> 0.2369624 | E29: =E21/E23 -> 0.74875 | F29: =F21/F23 -> 0.7260531 | T29: P_el_H | U29: =IF(Eingabe!A13=TRUE,IF(F38=1,E36,E36/(F38-1)),0) -> 719.44628 | V29: Strompreis | W29: =Eingabe!P49 -> 0.32 | X29: Kosten ohne GW_h | Z29: =IF(Eingabe!A13=TRUE,F43*1000*W30,0) -> 1201475.3 | AA29: Kosten mit GW_h | AC29: =IF(Eingabe!A13=TRUE,U29*Eingabe!J49*('Ausgabe Standortbewertung'!W29*1.05),0) -> 483467.9
B30: Unsicherheit | T30: P_el_K | U30: =IF(Eingabe!A14=TRUE,IF(F40=1,E37,E37/(F40)),0) -> 248.65655 | V30: Energiepreis | W30: =Eingabe!R49 -> 0.167 | X30: Kosten ohne GW_k | Z30: =IF(Eingabe!A14=TRUE,F44*1000/Z31*W29,0) -> 278495.33 | AA30: Kosten mit GW_k | AC30: =F44*1000/F40*(W29*1.05) -> 167097.2 | AD30: =F44*1000/Z33*(W29*1.05) -> 173543.09 | AE30: =IF(Eingabe!A14=TRUE,IF(J32=FALSE,AD30,AC30),0) -> 167097.2
A31: Minimum | B31: =Punkteberechnung!G47 -> 0.40793651 | C31: =IF(Eingabe!K28=TRUE,Punkteberechnung!K49,Punkteberechnung!K47) -> 0.28284586 | D31: =Punkteberechnung!W45 -> 0 | E31: =Punkteberechnung!AW45 -> 0.23757857 | F31: =Punkteberechnung!BN45 -> 0.74836071 | X31: EER Kälteanlage normal | Z31: 4 | AC31: aktiv | AD31: passiv | AE31: Ausgabe
A32: Maximum | B32: =Punkteberechnung!G48 -> 0.60793651 | C32: =IF(Eingabe!K28=TRUE,Punkteberechnung!K50,Punkteberechnung!K48) -> 0.4789669 | D32: =Punkteberechnung!W46 -> 0.57206822 | E32: =Punkteberechnung!AW46 -> 1 | F32: =Punkteberechnung!BN46 -> 0.79898359 | J32: TRUE | Z32: https://www.klimaworld.com/blog/seer-scop-wert-klimaanlage
X33: EER Grubenwasser passiv | Z33: 6.74 | AA33: Irgendwas von Oppelt zitieren ;-)
B34: Nutzbare Energie
B36: Potenzieller Wärmestrom WÜ (Heizen) | E36: =IF(Eingabe!A13=TRUE,Eingabe!E24/3600*997*4190*Eingabe!E26/1000,"kein Heinzbetrieb vorgesehen") -> 2158.3388
B37: Potenzieller Wärmestrom WÜ (Kühlen) | E37: =IF(Eingabe!A14=TRUE,Eingabe!E24/3600*997*4190*Eingabe!E27/1000,"kein Kühlbetrieb vorgesehen") -> 1740.5958 | V37: CO_2-Emissionen | W37: =VLOOKUP(Eingabe!Q49,Punkteberechnung!B40:E44,4,FALSE) -> 0.201 | X37: kg/kwh | Y37: CO_2 ohne GW_h | Z37: =F43*1000*W37 -> 1446087 | AA37: CO_2 mit GW_h | AC37: =U29*Eingabe!J49*W38 -> 548146.12
B38: Arbeitszahl Gesamtsystem mit WP Heizen (AZh): | F38: 4 | G38: =IF(F38>0,"Wert vorhanden",IF(F38<0,"Wert über 0 eingeben","Wert eingeben")) -> Wert vorhanden | V38: Strom | W38: =Punkteberechnung!E44 -> 0.38095 | X38: kg/kwh | Y38: CO_2 ohne GW_k | Z38: =F44*1000/Z31*W38 -> 331539.99 | AA38: CO_2 mit GW_k | AC38: =F44*1000/F40*W38 -> 189451.42 | AD38: =F44*1000/Z33*W38 -> 196759.64 | AE38: =IF(J32=TRUE,AC38,AD38) -> 189451.42
B39: Aktives Kühlen über die Wärmepumpe? | AC39: aktiv | AD39: passiv | AE39: Ausgabe
B40: Arbeitszahl Gesamtsystem mit WP Kühlen (AZk): | F40: 7 | G40: =IF(F40>0,"Wert vorhanden",IF(F40<0,"Wert über 0 eingeben","Wert eingeben")) -> Wert vorhanden | J40: Abb. 2 Darstellung der Elemente im Grubenwasser nach Puura und D'Alessandro
B41: Potenziell verfügbarer Wärmestrom beim Abnehmer (Heizen) | F41: =E36+U29 -> 2877.7851
B42: Potenziell verfügbarer Wärmestrom beim Abnehmer (Kühlen) | F42: =E37 -> 1740.5958
B43: Potenzielle Wärmemenge pro Jahr | F43: =IF(Eingabe!A13=TRUE,(F41+U29)*Eingabe!J49/1000,0) -> 7194.4628
B44: PotenzielleKältemenge pro Jahr | F44: =IF(Eingabe!A14=TRUE,(E37)*Eingabe!K49/1000,0) -> 3481.1917
B45: Potenzielle Kosten- und CO2-Reduktion im Vergleich zu: | F45: =Eingabe!Q49 -> Erdgas
B46: Potenzielle Kosteneinsparung pro Jahr: | F46: =ROUND((Z30+Z29)-(AC29+AE30),-2) -> 829400
B47: Pot. Reduktion CO2-Emissionen pro Jahr: | F47: =ROUND((Z37+Z38)-(AC37+AE38),-2) -> 1040000
B49: Foulingbewertung | H49: Fouling-klassifizierung
B51: Absolute Bewertung: | D51: =B21+C21+D21 -> 54.339729 | E51: von | F51: =B23+C23+D23 -> 170 | H51: =Y6 -> G
...

Sheet Ausgabe Wärmeübertragerdesign
B1: Ausgabe Wärmeübertragerdesign
H2: {='Ausgabe Standortbewertung'!E3:F3} -> Teststandort | I2: 0
B3: Standort: | E3: =IF(H2<>0,H2,"") -> Teststandort
B5: Wärmeübertragerdaten
B8: Modell: | D8: =Eingabe!D6 -> TRANTER TB050
B9: Länge Platte in m | D9: =Eingabe!E7 -> 0.496 | E9: Wellenlänge Λ in m | G9: =Eingabe!E9 -> 0.009
B10: Breite Platte in m | D10: =Eingabe!E8 -> 0.496 | E10: Profilamplitude α in m | G10: =Eingabe!E10 -> 0.001
B11: Plattenanzahl | D11: =IF(Eingabe!E3=TRUE,Eingabe!D11,Wärmeübertrager!L44) -> 17
B13: Empfohlene Oberflächeneigenschaften
B16: Kontaktwinkel in ° | D16: Rauigkeit in µm | F16: Oberflächenergie in mJ/m²
B17: ='Berechnung-WÜ-Material'!C28 -> >140 | D17: ='Berechnung-WÜ-Material'!C29 -> 0,1-0,3 | F17: ='Berechnung-WÜ-Material'!C30 -> 60-75
B19: Weitere Empfehlungen: | D19: =IF(AND('Berechnung-WÜ-Material'!G22>'Berechnung-WÜ-Material'!G23,'Berechnung-WÜ-Material'!G22>'Berechnung-WÜ-Material'!G24),"Viel Biofouling zu erwarten, antibakterielle Oberfläche bevorzugen","Keine weiteren Empfehlungen") -> Viel Biofouling zu erwarten, antibakterielle Oberfläche bevorzugen
B22: Empfohlene Materialien
B25: Material | D25: Kontakt-winkel | E25: Rauigkeit | F25: Oberflächen-energie | G25: Eignung Material
B27: =I27 -> NTS | D27: =L27 -> 160 | E27: =M27 -> 0.2 | F27: =N27 -> 24 | G27: =O27 -> 0.91626522 | I27: {=_xlfn.SORTBY('Berechnung-WÜ-Material'!B34:H38,'Berechnung-WÜ-Material'!H34:H38,-1)} -> NTS | J27: 0 | K27: 0 | L27: 160 | M27: 0.2 | N27: 24 | O27: 0.91626522
B28: =I28 -> Ti-DLC | D28: =L28 -> 92 | E28: =M28 -> 0.213 | F28: =N28 -> 42 | G28: =O28 -> 0.87203789 | I28: Ti-DLC | J28: 0 | K28: 0 | L28: 92 | M28: 0.213 | N28: 42 | O28: 0.87203789
B29: =I29 -> F-DLC (5,0 % F) | D29: =L29 -> 82.5 | E29: =M29 -> 0.145 | F29: =N29 -> 32.14 | G29: =O29 -> 0.87203789 | I29: F-DLC (5,0 % F) | J29: 0 | K29: 0 | L29: 82.5 | M29: 0.145 | N29: 32.14 | O29: 0.87203789
B30: =I30 -> DLC-82KW | D30: =L30 -> 82 | E30: =M30 -> 0.145 | F30: =N30 -> 40 | G30: =O30 -> 0.87203789 | I30: DLC-82KW | J30: 0 | K30: 0 | L30: 82 | M30: 0.145 | N30: 40 | O30: 0.87203789
B31: =I31 | D31: =L31 | E31: =M31 | F31: =N31 | J31: 0 | K31: 0 | O31: 0
B33: Materialauswahl
B36: Material | D36: Kontakt-winkel | E36: Rauigkeit | F36: Oberflächen-energie | G36: Eignung Material
I37: Kosten
B38: ZnO-Nanopartikel | D38: ='Berechnung-WÜ-Material'!E43 -> 158 | E38: ='Berechnung-WÜ-Material'!F43 -> 0.09182 | F38: ='Berechnung-WÜ-Material'!G43 -> 29.7 | G38: ='Berechnung-WÜ-Material'!H43 -> 0.78288537 | I38: =VLOOKUP(B38,'Daten-Materialien'!B2:AD238,29,FALSE) -> 0
B39: Versilbert | D39: ='Berechnung-WÜ-Material'!E44 -> 65 | E39: ='Berechnung-WÜ-Material'!F44 -> 0.07 | F39: ='Berechnung-WÜ-Material'!G44 -> 39.5 | G39: ='Berechnung-WÜ-Material'!H44 -> 0.66696979 | I39: =VLOOKUP(B39,'Daten-Materialien'!B2:AD238,29,FALSE) -> 127 €/Platte
B40: Ceramic Smooth Hydrophobic-1 | D40: ='Berechnung-WÜ-Material'!E45 -> 72 | E40: ='Berechnung-WÜ-Material'!F45 -> 0.05 | F40: ='Berechnung-WÜ-Material'!G45 -> 50 | G40: ='Berechnung-WÜ-Material'!H45 -> 0.46666284 | I40: =VLOOKUP(B40,'Daten-Materialien'!B2:AD238,29,FALSE) -> 0
B42: Prognose Foulingreduktion pro Material
J43: Gemittelte Prognose | O43: Obere Prognose (Optimiste Prognose) | T43: Mittlere Prognose | Y43: Untere Prognose (Pessimistische Prognose)
K44: =B38 -> ZnO-Nanopartikel | L44: =B39 -> Versilbert | M44: =B40 -> Ceramic Smooth Hydrophobic-1 | P44: =B38 -> ZnO-Nanopartikel | Q44: =B39 -> Versilbert | R44: =B40 -> Ceramic Smooth Hydrophobic-1 | U44: =B38 -> ZnO-Nanopartikel | V44: =B39 -> Versilbert | W44: =B40 -> Ceramic Smooth Hydrophobic-1 | Z44: =B38 -> ZnO-Nanopartikel | AA44: =B39 -> Versilbert | AB44: =B40 -> Ceramic Smooth Hydrophobic-1
B45: Um die mögliche Verbesserung eines Materials gegenüber Edelstahl für den gewählten Standort berechnen zu können, muss ausgewählt werden auf welchen Prognosewert aus dem Foulingtool sich die Analyse beziehen soll, neben der optimistischen, mittleren und pessimistischen Prognose kann auch eine gemittelte Prognose gewählt werden. | K45: Material 1 | L45: Material 2 | M45: Material 3 | P45: Material 1 | Q45: Material 2 | R45: Material 3 | U45: Material 1 | V45: Material 2 | W45: Material 3 | Z45: Material 1 | AA45: Material 2 | AB45: Material 3
J46: Minimum | K46: =MAX('Berechnung-WÜ-Material'!C107:E107) -> -0.021299759 | L46: =MAX('Berechnung-WÜ-Material'!K107:M107) -> -0.0059182636 | M46: =MAX('Berechnung-WÜ-Material'!S107:U107) -> -0.0081353139 | O46: Minimum | P46: ='Berechnung-WÜ-Material'!C107 -> -0.021299759 | Q46: ='Berechnung-WÜ-Material'!K107 -> -0.0059182636 | R46: ='Berechnung-WÜ-Material'!S107 -> -0.0081353139 | T46: Minimum | U46: ='Berechnung-WÜ-Material'!D107 -> -0.049764091 | V46: ='Berechnung-WÜ-Material'!L107 -> -0.013827246 | W46: ='Berechnung-WÜ-Material'!T107 -> -0.019007093 | Y46: Minimum | Z46: ='Berechnung-WÜ-Material'!E107 -> -0.066114931 | AA46: ='Berechnung-WÜ-Material'!M107 -> -0.018370423 | AB46: ='Berechnung-WÜ-Material'!U107 -> -0.025252198
J47: Unteres Quantil | K47: =MAX('Berechnung-WÜ-Material'!C108:E108) -> -0.064268967 | L47: =MAX('Berechnung-WÜ-Material'!K108:M108) -> -0.069942552 | M47: =MAX('Berechnung-WÜ-Material'!S108:U108) -> -0.10589095 | O47: Unteres Quantil | P47: ='Berechnung-WÜ-Material'!C108 -> -0.064268967 | Q47: ='Berechnung-WÜ-Material'!K108 -> -0.069942552 | R47: ='Berechnung-WÜ-Material'!S108 -> -0.10589095 | T47: Unteres Quantil | U47: ='Berechnung-WÜ-Material'!D108 -> -0.15015601 | V47: ='Berechnung-WÜ-Material'!L108 -> -0.16341159 | W47: ='Berechnung-WÜ-Material'!T108 -> -0.2474003 | Y47: Unteres Quantil | Z47: ='Berechnung-WÜ-Material'!E108 -> -0.19949232 | AA47: ='Berechnung-WÜ-Material'!M108 -> -0.21710326 | AB47: ='Berechnung-WÜ-Material'!U108 -> -0.32868788
J48: Median | K48: =AVERAGE('Berechnung-WÜ-Material'!C109:E109) -> -0.21467866 | L48: =AVERAGE('Berechnung-WÜ-Material'!K109:M109) -> -0.28923664 | M48: =AVERAGE('Berechnung-WÜ-Material'!S109:U109) -> -0.34361254 | O48: Median | P48: ='Berechnung-WÜ-Material'!C109 -> -0.099999513 | Q48: ='Berechnung-WÜ-Material'!K109 -> -0.13472938 | R48: ='Berechnung-WÜ-Material'!S109 -> -0.16005823 | T48: Median | U48: ='Berechnung-WÜ-Material'!D109 -> -0.23363574 | V48: ='Berechnung-WÜ-Material'!L109 -> -0.31477752 | W48: ='Berechnung-WÜ-Material'!T109 -> -0.37395504 | Y48: Median | Z48: ='Berechnung-WÜ-Material'!E109 -> -0.31040074 | AA48: ='Berechnung-WÜ-Material'!M109 -> -0.41820303 | AB48: ='Berechnung-WÜ-Material'!U109 -> -0.49682434
J49: Oberes Quantil | K49: =MIN('Berechnung-WÜ-Material'!C110:E110) -> -0.40600409 | L49: =MIN('Berechnung-WÜ-Material'!K110:M110) -> -0.57941164 | M49: =MIN('Berechnung-WÜ-Material'!S110:U110) -> -0.65001279 | O49: Oberes Quantil | P49: ='Berechnung-WÜ-Material'!C110 -> -0.13079934 | Q49: ='Berechnung-WÜ-Material'!K110 -> -0.18666477 | R49: ='Berechnung-WÜ-Material'!S110 -> -0.20940982 | T49: Oberes Quantil | U49: ='Berechnung-WÜ-Material'!D110 -> -0.30559549 | V49: ='Berechnung-WÜ-Material'!L110 -> -0.43611773 | W49: ='Berechnung-WÜ-Material'!T110 -> -0.48925855 | Y49: Oberes Quantil | Z49: ='Berechnung-WÜ-Material'!E110 -> -0.40600409 | AA49: ='Berechnung-WÜ-Material'!M110 -> -0.57941164 | AB49: ='Berechnung-WÜ-Material'!U110 -> -0.65001279
J50: Maximum | K50: =MIN('Berechnung-WÜ-Material'!C111:E111) -> -0.55515857 | L50: =MIN('Berechnung-WÜ-Material'!K111:M111) -> -0.93050597 | M50: =MIN('Berechnung-WÜ-Material'!S111:U111) -> -0.98475308 | O50: Maximum | P50: ='Berechnung-WÜ-Material'!C111 -> -0.17885134 | Q50: ='Berechnung-WÜ-Material'!K111 -> -0.29977423 | R50: ='Berechnung-WÜ-Material'!S111 -> -0.31725062 | T50: Maximum | U50: ='Berechnung-WÜ-Material'!D111 -> -0.41786267 | V50: ='Berechnung-WÜ-Material'!L111 -> -0.70038316 | W50: ='Berechnung-WÜ-Material'!T111 -> -0.74121445 | Y50: Maximum | Z50: ='Berechnung-WÜ-Material'!E111 -> -0.55515857 | AA50: ='Berechnung-WÜ-Material'!M111 -> -0.93050597 | AB50: ='Berechnung-WÜ-Material'!U111 -> -0.98475308
B51: Bezogen auf: | D51: Mittlere Prognose
J52: Rechenwerte Diagramm | O52: Rechenwerte Diagramm | T52: Rechenwerte Diagramm | Y52: Rechenwerte Diagramm
J53: Minimum | K53: =K46 -> -0.021299759 | L53: =L46 -> -0.0059182636 | M53: =M46 -> -0.0081353139 | O53: Minimum | P53: =P46 -> -0.021299759 | Q53: =Q46 -> -0.0059182636 | R53: =R46 -> -0.0081353139 | T53: Minimum | U53: =U46 -> -0.049764091 | V53: =V46 -> -0.013827246 | W53: =W46 -> -0.019007093 | Y53: Minimum | Z53: =Z46 -> -0.066114931 | AA53: =AA46 -> -0.018370423 | AB53: =AB46 -> -0.025252198
J54: Unteres Quantil | K54: =K47-K46 -> -0.042969208 | L54: =L47-L46 -> -0.064024289 | M54: =M47-M46 -> -0.097755633 | O54: Unteres Quantil | P54: =P47-P46 -> -0.042969208 | Q54: =Q47-Q46 -> -0.064024289 | R54: =R47-R46 -> -0.097755633 | T54: Unteres Quantil | U54: =U47-U46 -> -0.10039191 | V54: =V47-V46 -> -0.14958435 | W54: =W47-W46 -> -0.22839321 | Y54: Unteres Quantil | Z54: =Z47-Z46 -> -0.13337739 | AA54: =AA47-AA46 -> -0.19873283 | AB54: =AB47-AB46 -> -0.30343569
J55: Median | K55: =K48-K47 -> -0.1504097 | L55: =L48-L47 -> -0.21929409 | M55: =M48-M47 -> -0.23772159 | O55: Median | P55: =P48-P47 -> -0.035730546 | Q55: =Q48-Q47 -> -0.064786829 | R55: =R48-R47 -> -0.054167281 | T55: Median | U55: =U48-U47 -> -0.083479732 | V55: =V48-V47 -> -0.15136592 | W55: =W48-W47 -> -0.12655474 | Y55: Median | Z55: =Z48-Z47 -> -0.11090842 | AA55: =AA48-AA47 -> -0.20109977 | AB55: =AB48-AB47 -> -0.16813646
J56: Oberes Quantil | K56: =K49-K48 -> -0.19132543 | L56: =L49-L48 -> -0.29017499 | M56: =M49-M48 -> -0.30640025 | O56: Oberes Quantil | P56: =P49-P48 -> -0.030799825 | Q56: =Q49-Q48 -> -0.051935385 | R56: =R49-R48 -> -0.049351589 | T56: Oberes Quantil | U56: =U49-U48 -> -0.071959749 | V56: =V49-V48 -> -0.12134021 | W56: =W49-W48 -> -0.11530351 | Y56: Oberes Quantil | Z56: =Z49-Z48 -> -0.095603351 | AA56: =AA49-AA48 -> -0.16120861 | AB56: =AB49-AB48 -> -0.15318844
...

Sheet Wichtungsberechnung
B1: Hier die Ergebnisse aus der Output-Datei der PHREEQC-Modellierung eintragen:
B3: reaction | C3: si_Pyrolusite | D3: si_Nsutite | E3: si_Birnessite | F3: si_Bixbyite | G3: si_Hausmannite | H3: si_Manganite | I3: si_Magnetite | J3: si_Hematite | K3: si_Maghemite | L3: si_Scorodite | M3: si_Goethite | N3: si_Fe(OH)3(a) | O3: si_Fe3(OH)8 | P3: si_Gibbsite | Q3: si_Diaspore | R3: si_Boehmite | S3: si_AlAsO4:2H2O | T3: si_Zincite(c) | U3: si_Zn3(AsO4)2:2.5w | V3: si_Zn(OH)2-a | W3: si_Arsenolite | X3: si_Claudetite | Y3: si_As2O5(cr)
A4: Startwerte | B4: -99 | C4: 3.4791 | D4: 4.401 | E4: 3.364 | F4: -2.1012 | G4: -10.3104 | H4: -0.1054 | I4: 7.0105 | J4: 16.8614 | K4: 7.4651 | L4: 0.363 | M4: 7.4569 | N4: 2.0336 | O4: -7.8449 | P4: -2.6293 | Q4: -1.4585 | R4: -3.2767 | S4: -4.7554 | T4: -7.6875 | U4: -13.5975 | V4: -8.2911 | W4: -55.8567 | X4: -55.9091 | Y4: -19.651
A5: Heizen | B5: -99 | C5: 3.5026 | D5: 4.5995 | E5: 3.5625 | F5: -2.0677 | G5: -10.3532 | H5: 0.0012 | I5: 6.9145 | J5: 16.8489 | K5: 7.5355 | L5: 0.3778 | M5: 7.4532 | N5: 2.0688 | O5: -7.8052 | P5: -2.6674 | Q5: -1.5017 | R5: -3.3293 | S5: -4.7527 | T5: -7.7321 | U5: -13.5958 | V5: -8.2769 | W5: -56.067 | X5: -56.1204 | Y5: -19.6937
A6: Kühlen
B8: Aluminium | G8: Arsen | L8: Eisen | S8: Mangan | Y8: Zink
B9: Boehimt | C9: Diaspor | D9: Gibbsit | E9: Mansfieldit | F9: Scorodit | G9: Arsenic pentoxide | H9: Arsenolith | I9: Caludetit | J9: Davidlloydit | K9: Mansfieldit | L9: Eisen-(III)-Hydroxid | M9: Fe_3(OH)_8 | N9: Goethit | O9: Hämatit | P9: Maghemit | Q9: Magnetit | R9: Scordit | S9: Birnessit | T9: Bixbyit | U9: Hausmannit | V9: Manganit | W9: Nsutit | X9: Pyrolusit | Y9: Zinkit | Z9: Davidlloydit | AA9: Zinkhydroxid
B10: {=R3:R6} -> si_Boehmite | C10: {=Q3:Q6} -> si_Diaspore | D10: {=P3:P6} -> si_Gibbsite | E10: {=S3:S6} -> si_AlAsO4:2H2O | F10: {=L3:L6} -> si_Scorodite | G10: {=Y3:Y6} -> si_As2O5(cr) | H10: {=W3:W6} -> si_Arsenolite | I10: {=X3:X6} -> si_Claudetite | J10: {=U3:U6} -> si_Zn3(AsO4)2:2.5w | K10: {=S3:S6} -> si_AlAsO4:2H2O | L10: {=N3:N6} -> si_Fe(OH)3(a) | M10: {=O3:O6} -> si_Fe3(OH)8 | N10: {=M3:M6} -> si_Goethite | O10: {=J3:J6} -> si_Hematite | P10: {=K3:K6} -> si_Maghemite | Q10: {=I3:I6} -> si_Magnetite | R10: {=L3:L6} -> si_Scorodite | S10: {=E3:E6} -> si_Birnessite | T10: {=F3:F6} -> si_Bixbyite | U10: {=G3:G6} -> si_Hausmannite | V10: {=H3:H6} -> si_Manganite | W10: {=D3:D6} -> si_Nsutite | X10: {=C3:C6} -> si_Pyrolusite | Y10: {=T3:T6} -> si_Zincite(c) | Z10: {=U3:U6} -> si_Zn3(AsO4)2:2.5w | AA10: {=V3:V6} -> si_Zn(OH)2-a
B11: -3.2767 | C11: -1.4585 | D11: -2.6293 | E11: -4.7554 | F11: 0.363 | G11: -19.651 | H11: -55.8567 | I11: -55.9091 | J11: -13.5975 | K11: -4.7554 | L11: 2.0336 | M11: -7.8449 | N11: 7.4569 | O11: 16.8614 | P11: 7.4651 | Q11: 7.0105 | R11: 0.363 | S11: 3.364 | T11: -2.1012 | U11: -10.3104 | V11: -0.1054 | W11: 4.401 | X11: 3.4791 | Y11: -7.6875 | Z11: -13.5975 | AA11: -8.2911
B12: -3.3293 | C12: -1.5017 | D12: -2.6674 | E12: -4.7527 | F12: 0.3778 | G12: -19.6937 | H12: -56.067 | I12: -56.1204 | J12: -13.5958 | K12: -4.7527 | L12: 2.0688 | M12: -7.8052 | N12: 7.4532 | O12: 16.8489 | P12: 7.5355 | Q12: 6.9145 | R12: 0.3778 | S12: 3.5625 | T12: -2.0677 | U12: -10.3532 | V12: 0.0012 | W12: 4.5995 | X12: 3.5026 | Y12: -7.7321 | Z12: -13.5958 | AA12: -8.2769
B13: 0 | C13: 0 | D13: 0 | E13: 0 | F13: 0 | G13: 0 | H13: 0 | I13: 0 | J13: 0 | K13: 0 | L13: 0 | M13: 0 | N13: 0 | O13: 0 | P13: 0 | Q13: 0 | R13: 0 | S13: 0 | T13: 0 | U13: 0 | V13: 0 | W13: 0 | X13: 0 | Y13: 0 | Z13: 0 | AA13: 0
B15: =IF(B11<>0,B11,"") -> -3.2767 | C15: =IF(C11<>0,C11,"") -> -1.4585 | D15: =IF(D11<>0,D11,"") -> -2.6293 | E15: =IF(E11<>0,E11,"") -> -4.7554 | F15: =IF(F11<>0,F11,"") -> 0.363 | G15: =IF(G11<>0,G11,"") -> -19.651 | H15: =IF(H11<>0,H11,"") -> -55.8567 | I15: =IF(I11<>0,I11,"") -> -55.9091 | ... AA15: =IF(AA11<>0,AA11,"") -> -8.2911
B16: =IF(B12<>0,B12,"") -> -3.3293 | C16: =IF(C12<>0,C12,"") -> -1.5017 | D16: =IF(D12<>0,D12,"") -> -2.6674 | E16: =IF(E12<>0,E12,"") -> -4.7527 | F16: =IF(F12<>0,F12,"") -> 0.3778 | G16: =IF(G12<>0,G12,"") -> -19.6937 | H16: =IF(H12<>0,H12,"") -> -56.067 | I16: =IF(I12<>0,I12,"") -> -56.1204 | ... AA16: =IF(AA12<>0,AA12,"") -> -8.2769
B17: =IF(B13<>0,B13,"") | C17: =IF(C13<>0,C13,"") | D17: =IF(D13<>0,D13,"") | E17: =IF(E13<>0,E13,"") | F17: =IF(F13<>0,F13,"") | G17: =IF(G13<>0,G13,"") | H17: =IF(H13<>0,H13,"") | I17: =IF(I13<>0,I13,"") | ... AA17: =IF(AA13<>0,AA13,"")
A18: Mittelwert | B18: =AVERAGE(B15:B17) -> -3.303 | C18: =AVERAGE(C15:C17) -> -1.4801 | D18: =AVERAGE(D15:D17) -> -2.64835 | E18: =AVERAGE(E15:E17) -> -4.75405 | F18: =AVERAGE(F15:F17) -> 0.3704 | G18: =AVERAGE(G15:G17) -> -19.67235 | H18: =AVERAGE(H15:H17) -> -55.96185 | I18: =AVERAGE(I15:I17) -> -56.01475 | ... AA18: =AVERAGE(AA15:AA17) -> -8.284
A20: Über 0? | B20: =IF(B18>0,B18,"") | C20: =IF(C18>0,C18,"") | D20: =IF(D18>0,D18,"") | E20: =IF(E18>0,E18,"") | F20: =IF(F18>0,F18,"") -> 0.3704 | G20: =IF(G18>0,G18,"") | H20: =IF(H18>0,H18,"") | I20: =IF(I18>0,I18,"") | ... AA20: =IF(AA18>0,AA18,"")
A22: Mittelwert SI_i | F22: =IF(SUM(B20:F20)>0,AVERAGE(B20:F20),0) -> 0.3704 | K22: =IF(SUM(G20:K20)>0,AVERAGE(G20:K20),0) -> 0 | R22: =IF(SUM(L20:R20)>0,AVERAGE(L20:R20),0) -> 6.8657667 | X22: =IF(SUM(S20:X20)>0,AVERAGE(S20:X20),0) -> 3.8181167 | AA22: =IF(SUM(Y20:AA20)>0,AVERAGE(Y20:AA20),0) -> 0
A24: Wichtungsfaktor | F24: =1+F22 -> 1.3704 | K24: =1+K22 -> 1 | R24: =1+R22 -> 7.8657667 | X24: =1+X22 -> 4.8181167 | AA24: =1+AA22 -> 1
B26: Fe | C26: As | D26: Mn | E26: Al | F26: Zn
B27: =R24 -> 7.8657667 | C27: =K24 -> 1 | D27: =X24 -> 4.8181167 | E27: =F24 -> 1.3704 | F27: =AA24 -> 1

Sheet Beispielskript Modellierung
B1: Eingabewerte PHREEQC-Modellierung
B2: Startwerte | C2: Heizen | D2: Kühlen
B3: Modellierung 1 | C3: Modellierung 2 | D3: Modellierung 3
A4: Temperatur | B4: =Eingabe!D24 -> 12.2 | C4: =Eingabe!D24-Eingabe!E26 -> 6 | D4: =Eingabe!D24+Eingabe!E27 -> 17.2
A5: pε | B5: {=Eingabe!O24:Q24} -> 2 | C5: 2.0346492 | D5: 1.9746855
A6: Partialdruck Sauerstoff | B6: {=Eingabe!S25:U25} -> 0.096278204 | C6: 0.086871539 | D6: 0.10673243
A8: Beispielskript
A9: SOLUTION 1
A11: units ppm
A13: temp 29.00 #Grubenwassertemperatur --> Ändern für Heizenmodus/Kühlmodus
A14: pH 6.38
A15: pe 9.71 # Konzentration redoxwirksame Spezies --> Ändern für Heizenmodus/Kühlmodus
A17: Mn 0.240
A18: Fe 4.46
A19: Al 0.03
A20: Zn 0.013
A21: As 0.021
A23: #ab hier können weitere Elementkonzentrationen eingetragen werden
... A68: -saturation_indices As2O5(cr)

Sheet Punkteberechnung
A1: Parameter für Punktevergabe | G1: Physikalische Parameter | J1: chemische Parameter | X1: Biologische Parameter | AW1: Toxizität | BN1: Wirtschaftlichkeit
G2: Strömungsgeschwindigkeit | H2: Temperatur | K2: pH-Wert | M2: Eisen | O2: Arsen | Q2: Mangan | S2: Aluminium | U2: Zink | X2: TOC | Z2: DOC | AB2: Sulfat | AD2: Nitrat | AF2: Phosphat | AH2: Redox-Potenzial | AJ2: Elektronenakzeptor (O2) | AL2: Elektronendonor | AO2: Bakterientest allgemein | AQ2: Schleimbildende Bakterien | AS2: Sulfatreduzierende Bakterien | AU2: Eisenreduzierende Bakterien | AX2: U | AZ2: Cd | BB2: Pb | BD2: PAK | BF2: PCB | BI2: Coliforme Bakterien | BK2: P.aeruginosa | BN2: Temperatur | BP2: Volumenstrom | BR2: Bohrtiefe | BT2: Anlagenleistung Heizen | BV2: Anlagenleistung Kühlen | BX2: Belegungsdichte Nahwärmenetz | BZ2: Amortisationsdauer
K3: Grenzwerte | L3: Punkte | M3: µg/l | N3: Punkte | O3: µg/l | P3: Punkte | Q3: µg/l | R3: Punkte | S3: µg/l | T3: Punkte | U3: µg/l | V3: Punkte | X3: mg/l | Y3: Punkte | Z3: mg/l | AA3: Punkte | AB3: mg/l | AC3: Punkte | AD3: mg/l | AE3: Punkte | AF3: mg/l | AG3: Punkte | AH3: mV | AI3: Punkte | AJ3: mg/l | AK3: Punkte | AL3: mg/l | AM3: Punkte | AO3: Eingabe | AP3: Punkte | AQ3: Eingabe | AR3: Punkte | AS3: Eingabe | AT3: Punkte | AU3: Eingabe | AV3: Punkte | AX3: µg/l | AY3: Punkte | AZ3: µg/l | BA3: Punkte | BB3: µg/l | BC3: Punkte | BD3: µg/l | BE3: Punkte | BF3: µg/l | BG3: Punkte | BI3: Eingabe | BJ3: Punkte | BK3: Eingabe | BL3: Punkte | BN3: Wert | BO3: Punkte | BP3: Wert | BQ3: Punkte | BR3: Wert | BS3: Punkte | BT3: Wert | BU3: Punkte | BV3: Wert | BW3: Punkte | BX3: Wert | BY3: Punkte | BZ3: Wert | CA3: Punkte
J4: Obere Grenze | K4: =Eingabe!H19 -> 9.5 | L4: 5 | M4: =Eingabe!I19 -> 200 | N4: 5 | O4: =Eingabe!J19 -> 10 | P4: 5 | Q4: =Eingabe!K19 -> 50 | R4: 5 | S4: =Eingabe!L19 -> 200 | T4: 5 | U4: =Eingabe!M19 -> 4000 | V4: 5 | W4: Obere Grenze | X4: =Eingabe!D34 -> 7 | Y4: 5 | Z4: =Eingabe!E34 -> 2.5 | AA4: 5 | AB4: =Eingabe!F34 -> 250 | AC4: 5 | AD4: =Eingabe!G34 -> 50 | AE4: 5 | AF4: =Eingabe!H34 -> 0.07 | AG4: 5 | AH4: =Eingabe!I34 -> 300 | AI4: 5 | AJ4: =Eingabe!J34 -> 5.415 | AK4: 5 | AL4: =Eingabe!K34 -> 0.2 | AM4: 5 | AN4: Auswahl-möglichkeiten | AO4: Sehr hoch (≥10^6 CFU/ml) | AP4: 0 | AQ4: Sehr hoch (≥10^6 CFU/ml) | AR4: 0 | AS4: Sehr hoch (≥10^6 CFU/ml) | AT4: 0 | AU4: Sehr hoch (≥10^6 CFU/ml) | AV4: 0 | AW4: Obere Grenze | AX4: =Eingabe!R34 -> 10 | AY4: 5 | AZ4: =Eingabe!S34 -> 3 | BA4: 5 | BB4: =Eingabe!T34 -> 10 | BC4: 5 | BD4: =Eingabe!U34 -> 0.1 | BE4: 5 | BF4: =Eingabe!V34 -> 0.01 | BG4: 5 | BH4: Auswahl-möglichkeiten | BI4: Sehr hoch (≥10^6 CFU/ml) | BJ4: 0 | BK4: Sehr hoch (≥10^6 CFU/ml) | BL4: 0 | BM4: Rahmenpunkte ⭢ 2,5 Pkt. | BN4: 12.9 | BO4: 2.5 | BP4: 21 | BQ4: 2.5 | BR4: 745 | BS4: 2.5 | BT4: 100 | BU4: 2.5 | BV4: 100 | BW4: 2.5 | BX4: 1500 | BY4: 2.5 | BZ4: 20 | CA4: 0
J5: Untere Grenze | K5: =Eingabe!H20 -> 6.5 | L5: 5 | AO5: Moderat (≥10^4 <10^6 CFU/ml) | AP5: 5 | AQ5: Moderat (≥10^4 <10^6 CFU/ml) | AR5: 5 | AS5: Moderat (≥10^4 <10^6 CFU/ml) | AT5: 5 | AU5: Moderat (≥10^4 <10^6 CFU/ml) | AV5: 5 | BI5: Moderat (≥10^4 <10^6 CFU/ml) | BJ5: 5 | BK5: Moderat (≥10^4 <10^6 CFU/ml) | BL5: 5 | BM5: Rahmenpunkte ⭢ 5 Pkt. | BN5: 16.4 | BO5: 5 | BP5: 108 | BQ5: 5 | BR5: 320 | BS5: 5 | BT5: 740 | BU5: 5 | BV5: 740 | BW5: 5 | BX5: 2000 | BY5: 5
J6: Maximale Punktzahl | K6: 7 | L6: 10 | M6: =Eingabe!I20 -> 0 | N6: 10 | O6: =Eingabe!J20 -> 0 | P6: 10 | Q6: =Eingabe!K20 -> 0 | R6: 10 | S6: =Eingabe!L20 -> 0 | T6: 10 | U6: =Eingabe!M20 -> 0 | V6: 10 | W6: Maximale Punktzahl | X6: 0 | Y6: 10 | Z6: 0 | AA6: 10 | AB6: 0 | AC6: 10 | AD6: 0 | AE6: 10 | AF6: 0 | AG6: 10 | AH6: =Eingabe!I35 -> 0 | AI6: 10 | AJ6: =Eingabe!J35 -> 0 | AK6: 10 | AL6: =Eingabe!K35 -> 0 | AM6: 10 | AO6: Niedrig (≥0 <10^4 CFU/ml) | AP6: 7.5 | AQ6: Niedrig (≥0 <10^4 CFU/ml) | AR6: 7.5 | AS6: Niedrig (≥0 <10^4 CFU/ml) | AT6: 7.5 | AU6: Niedrig (≥0 <10^4 CFU/ml) | AV6: 7.5 | AW6: Maximale Punktzahl | AX6: 0 | AY6: 10 | AZ6: 0 | BA6: 10 | BB6: 0 | BC6: 10 | BD6: 0 | BE6: 10 | BF6: 0 | BG6: 10 | BI6: Niedrig (≥0 <10^4 CFU/ml) | BJ6: 7.5 | BK6: Niedrig (≥0 <10^4 CFU/ml) | BL6: 7.5 | BM6: Rahmenpunkte ⭢ 7,5 Pkt. | BN6: 25.5 | BO6: 7.5 | BP6: 402 | BQ6: 7.5 | BR6: 140 | BS6: 7.5 | BT6: 3500 | BU6: 7.5 | BV6: 3500 | BW6: 7.5 | BX6: 2500 | BY6: 7.5 | BZ6: 5 | CA6: 10
A7: Anzahl der zu vergebenden Punkte | B7: 10 | AO7: Tests negativ | AP7: 10 | AQ7: Tests negativ | AR7: 10 | AS7: Tests negativ | AT7: 10 | AU7: Tests negativ | AV7: 10 | BI7: Tests negativ | BJ7: 10 | BK7: Tests negativ | BL7: 10
F8: Eingabewert | G8: ='Strömung-Temp-Fouling'!F4 -> 10.500672 | H8: Starttemperatur | I8: ='Strömung-Temp-Fouling'!B4 -> 12.2 | J8: Eingabewert | K8: =Eingabe!H24 -> 7.61 | M8: =Eingabe!I24 -> 690 | O8: =Eingabe!J24 -> 12 | Q8: =Eingabe!K24 -> 70 | S8: =Eingabe!L24 -> 20 | U8: =Eingabe!M24 -> 100 | W8: Eingabewert | X8: =Eingabe!D38 -> 2.5 | Z8: =Eingabe!E38 -> 0 | AB8: =Eingabe!F38 -> 560 | AD8: =Eingabe!G38 -> 0 | AF8: =Eingabe!H38 -> 0 | AH8: =Eingabe!I38 -> 113.26019 | AJ8: =Eingabe!J38 -> 12 | AL8: =Eingabe!K38 -> 0.69 | AO8: Kein Test durchgeführt | AQ8: Kein Test durchgeführt | AS8: Kein Test durchgeführt | AU8: Kein Test durchgeführt | AW8: Eingabewert | AX8: =Eingabe!R38 -> 0.1 | AZ8: =Eingabe!S38 -> 3 | BB8: =Eingabe!T38 -> 10 | BD8: =Eingabe!U38 -> 0 | BF8: =Eingabe!V38 -> 0 | BI8: Kein Test durchgeführt | BK8: Kein Test durchgeführt | BM8: Eingabewert | BN8: =Eingabe!D49 -> 12.2 | BP8: =Eingabe!E49 -> 300 | BR8: =Eingabe!F49 -> 0 | BT8: =Eingabe!H49 -> 2158.3388 | BV8: =Eingabe!I49 -> 1740.5958 | BX8: =Eingabe!L49 -> 3000 | BZ8: =Eingabe!O49 -> 0
H9: Temperatur Heizen | I9: ='Strömung-Temp-Fouling'!C4 -> 6
C10: Punkte | H10: Temperatur Kühlen | I10: ='Strömung-Temp-Fouling'!D4 -> 17.2 | AN10: Eingabewert | AO10: =Eingabe!M38 -> Sehr hoch (≥10^6 CFU/ml) | AP10: =IF(AO10="Sehr hoch (≥10^6 CFU/ml)",AP4,IF(AO10="Moderat (≥10^4 <10^6 CFU/ml)",AP5,IF(AO10="Niedrig (≥0 <10^4 CFU/ml)",AP6,IF(AO10="Tests negativ",AP7,IF(AO10="Kein Test durchgeführt","",""))))) -> 0 | AQ10: =Eingabe!N38 -> Moderat (≥10^4 <10^6 CFU/ml) | AR10: =IF(AQ10="Sehr hoch (≥10^6 CFU/ml)",AR4,IF(AQ10="Moderat (≥10^4 <10^6 CFU/ml)",AR5,IF(AQ10="Niedrig (≥0 <10^4 CFU/ml)",AR6,IF(AQ10="Tests negativ",AR7,IF(AQ10="Kein Test durchgeführt","",""))))) -> 5 | AS10: =Eingabe!O38 -> Sehr hoch (≥10^6 CFU/ml) | AT10: =IF(AS10="Sehr hoch (≥10^6 CFU/ml)",AT4,IF(AS10="Moderat (≥10^4 <10^6 CFU/ml)",AT5,IF(AS10="Niedrig (≥0 <10^4 CFU/ml)",AT6,IF(AS10="Tests negativ",AT7,IF(AS10="Kein Test durchgeführt","",""))))) -> 0 | AU10: =Eingabe!P38 -> Sehr hoch (≥10^6 CFU/ml) | AV10: =IF(AU10="Sehr hoch (≥10^6 CFU/ml)",AV4,IF(AU10="Moderat (≥10^4 <10^6 CFU/ml)",AV5,IF(AU10="Niedrig (≥0 <10^4 CFU/ml)",AV6,IF(AU10="Tests negativ",AV7,IF(AU10="Kein Test durchgeführt","",""))))) -> 0 | BH10: Eingabewert | BI10: =Eingabe!W38 -> Kein Test durchgeführt | BJ10: =IF(BI10="Sehr hoch (≥10^6 CFU/ml)",BJ4,IF(BI10="Moderat (≥10^4 <10^6 CFU/ml)",BJ5,IF(BI10="Niedrig (≥0 <10^4 CFU/ml)",BJ6,IF(BI10="Tests negativ",BJ7,IF(BI10="Kein Test durchgeführt","",""))))) | BK10: =Eingabe!X38 -> Tests negativ | BL10: =IF(BK10="Sehr hoch (≥10^6 CFU/ml)",BL4,IF(BK10="Moderat (≥10^4 <10^6 CFU/ml)",BL5,IF(BK10="Niedrig (≥0 <10^4 CFU/ml)",BL6,IF(BK10="Tests negativ",BL7,IF(BK10="Kein Test durchgeführt","",""))))) -> 10
A11: Drop-Down-Menü Biologische Parameter | B11: Sehr hoch (≥10^6 CFU/ml) | C11: 0 | X11: =IF(Eingabe!D37="Wert vorhanden",TRUE,FALSE) -> TRUE | Z11: =IF(Eingabe!E37="Wert vorhanden",TRUE,FALSE) -> FALSE | AB11: =IF(Eingabe!F37="Wert vorhanden",TRUE,FALSE) -> TRUE | AD11: =IF(Eingabe!G37="Wert vorhanden",TRUE,FALSE) -> FALSE | AF11: =IF(Eingabe!H37="Wert vorhanden",TRUE,FALSE) -> FALSE | AH11: =IF(Eingabe!I37="Wert vorhanden",TRUE,FALSE) -> TRUE | AJ11: =IF(Eingabe!J37="Wert vorhanden",TRUE,FALSE) -> TRUE | AL11: =IF(Eingabe!K37="Wert vorhanden",TRUE,FALSE) -> TRUE | AP11: =ISNUMBER(AP10) -> TRUE | AR11: =ISNUMBER(AR10) -> TRUE | AT11: =ISNUMBER(AT10) -> TRUE | AV11: =ISNUMBER(AV10) -> TRUE | AX11: =IF(Eingabe!R37="Wert vorhanden",TRUE,FALSE) -> TRUE | AZ11: =IF(Eingabe!S37="Wert vorhanden",TRUE,FALSE) -> TRUE | BB11: =IF(Eingabe!T37="Wert vorhanden",TRUE,FALSE) -> TRUE | BD11: =IF(Eingabe!U37="Wert vorhanden",TRUE,FALSE) -> FALSE | BF11: =IF(Eingabe!V37="Wert vorhanden",TRUE,FALSE) -> FALSE | BJ11: =ISNUMBER(BJ10) -> FALSE | BL11: =ISNUMBER(BL10) -> TRUE | BT11: =Eingabe!A13 -> TRUE | BV11: =Eingabe!A14 -> TRUE | BX11: =IF(Eingabe!L48="Wert vorhanden",TRUE,FALSE) -> TRUE | BZ11: =Eingabe!M49 -> TRUE
B12: Moderat (≥10^4 <10^6 CFU/ml) | C12: 3
B13: Niedrig (≥0 <10^4 CFU/ml) | C13: 6 | F13: Rechenpunkte | G13: ='Strömung-Temp-Fouling'!F11 -> 21 | I13: ='Strömung-Temp-Fouling'!E11 -> 5 | J13: Rechenpunkte | K13: =IF(K8>K6,L4+(L6-L4)/(K6-K4)*(K8-K4),IF(K8<K6,L5+(L6-L5)/(K6-K5)*(K8-K5),IF(K8=K6,L6,""))) -> 8.78 | M13: =N4+(N6-N4)/(M6-M4)*(M8-M4) -> -7.25 | O13: =P4+(P6-P4)/(O6-O4)*(O8-O4) -> 4 | Q13: =R4+(R6-R4)/(Q6-Q4)*(Q8-Q4) -> 3 | S13: =T4+(T6-T4)/(S6-S4)*(S8-S4) -> 9.5 | U13: =V4+(V6-V4)/(U6-U4)*(U8-U4) -> 9.875 | W13: Rechenpunkte | X13: =Y4+(Y6-Y4)/(X6-X4)*(X8-X4) -> 8.2142857 | Z13: =AA4+(AA6-AA4)/(Z6-Z4)*(Z8-Z4) -> 10 | AB13: =AC4+(AC6-AC4)/(AB6-AB4)*(AB8-AB4) -> -1.2 | AD13: =AE4+(AE6-AE4)/(AD6-AD4)*(AD8-AD4) -> 10 | AF13: =AG4+(AG6-AG4)/(AF6-AF4)*(AF8-AF4) -> 10 | AH13: =AI4+(AI6-AI4)/(AH6-AH4)*(AH8-AH4) -> 8.1123302 | AJ13: =AK4+(AK6-AK4)/(AJ6-AJ4)*(AJ8-AJ4) -> -1.0803324 | AL13: =AM4+(AM6-AM4)/(AL6-AL4)*(AL8-AL4) -> -7.25 | AN13: Rechenpunkte | AP13: =AP10 -> 0 | AR13: =AR10 -> 5 | AT13: =AT10 -> 0 | AV13: =AV10 -> 0 | AW13: Rechenpunkte | AX13: =AY4+(AY6-AY4)/(AX6-AX4)*(AX8-AX4) -> 9.95 | AZ13: =BA4+(BA6-BA4)/(AZ6-AZ4)*(AZ8-AZ4) -> 5 | BB13: =BC4+(BC6-BC4)/(BB6-BB4)*(BB8-BB4) -> 5 | BD13: =BE4+(BE6-BE4)/(BD6-BD4)*(BD8-BD4) -> 10 | BF13: =BG4+(BG6-BG4)/(BF6-BF4)*(BF8-BF4) -> 10 | BJ13: =BJ10 | BL13: =BL10 -> 10 | BM13: Rechenpunkte | BN13: =IF(BN8<BN5,BO4+(BO5-BO4)/(BN5-BN4)*(BN8-BN4),IF(BN8>BN5,BO5+(BO6-BO5)/(BN6-BN5)*(BN8-BN5),BO5)) -> 2 | BP13: =IF(BP8<BP5,BQ4+(BQ5-BQ4)/(BP5-BP4)*(BP8-BP4),IF(BP8>BP5,BQ5+(BQ6-BQ5)/(BP6-BP5)*(BP8-BP5),BQ5)) -> 6.6326531 | BR13: =IF(BR8=0,10,IF(BR8>BR5,BS4+(BS5-BS4)/(BR5-BR4)*(BR8-BR4),IF(BR8<BR5,BS5+(BS6-BS5)/(BR6-BR5)*(BR8-BR5),BS5))) -> 10 | BT13: =IF(BT8<BT5,BU4+(BU5-BU4)/(BT5-BT4)*(BT8-BT4),IF(BT8>BT5,BU5+(BU6-BU5)/(BT6-BT5)*(BT8-BT5),BU5)) -> 6.2847272 | BV13: =IF(BV8<BV5,BW4+(BW5-BW4)/(BV5-BV4)*(BV8-BV4),IF(BV8>BV5,BW5+(BW6-BW5)/(BV6-BV5)*(BV8-BV5),BW5)) -> 5.9063368 | BX13: =IF(BX8<BX5,BY4+(BY5-BY4)/(BX5-BX4)*(BX8-BX4),IF(BX8>BX5,BY5+(BY6-BY5)/(BX6-BX5)*(BX8-BX5),BY5)) -> 10 | BZ13: =CA4+(CA6-CA4)/(BZ6-BZ4)*(BZ8-BZ4) -> 13.333333
B14: Tests negativ | C14: 10 | F14: Punkteausgabe | G14: ='Strömung-Temp-Fouling'!F12 -> 7.7777778 | I14: ='Strömung-Temp-Fouling'!E12 -> 2.3809524 | J14: Punkteausgabe | K14: =IF(K13>0,K13,0) -> 8.78 | M14: =IF(M13>0,M13,0) -> 0 | O14: =IF(O13>0,O13,0) -> 4 | Q14: =IF(Q13>0,Q13,0) -> 3 | S14: =IF(S13>0,S13,0) -> 9.5 | U14: =IF(U13>0,U13,0) -> 9.875 | W14: Punkteausgabe | X14: =IF(Eingabe!D38>0,IF(X13>0,X13,0),"") -> 8.2142857 | Z14: =IF(Eingabe!E38>0,IF(Z13>0,Z13,0),"") | AB14: =IF(Eingabe!F38>0,IF(AB13>0,AB13,0),"") -> 0 | AD14: =IF(Eingabe!G38>0,IF(AD13>0,AD13,0),"") | AF14: =IF(Eingabe!H38>0,IF(AF13>0,AF13,0),"") | AH14: =IF(Eingabe!J38>0,IF(AH13>0,AH13,0),"") -> 8.1123302 | AJ14: =IF(Eingabe!M38>0,IF(AJ13>0,AJ13,0),"") -> 0 | AL14: =IF(Eingabe!O38>0,IF(AL13>0,AL13,0),"") -> 0 | AN14: Punkteausgabe | AP14: =AP13 -> 0 | AR14: =AR13 -> 5 | AT14: =AT13 -> 0 | AV14: =AV13 -> 0 | AW14: Punkteausgabe | AX14: =IF(Eingabe!R38>0,IF(AX13>0,AX13,0),"") -> 9.95 | AZ14: =IF(Eingabe!S38>0,IF(AZ13>0,AZ13,0),"") -> 5 | BB14: =IF(Eingabe!T38>0,IF(BB13>0,BB13,0),"") -> 5 | BD14: =IF(Eingabe!U38>0,IF(BD13>0,BD13,0),"") | BF14: =IF(Eingabe!V38>0,IF(BF13>0,BF13,0),"") | BJ14: =BJ13 | BL14: =BL13 -> 10 | BM14: Punkteausgabe | BN14: =IF(BN13<0,0,IF(BN13>10,10,BN13)) -> 2 | BP14: =IF(BP13<0,0,IF(BP13>10,10,BP13)) -> 6.6326531 | BR14: =IF(BR13<0,0,IF(BR13>10,10,BR13)) -> 10 | BT14: =IF(BT11=TRUE,IF(BT13<0,0,IF(BT13>10,10,BT13)),"") -> 6.2847272 | BV14: =IF(BV11=TRUE,IF(BV13<0,0,IF(BV13>10,10,BV13)),"") -> 5.9063368 | BX14: =IF(BX11=TRUE,IF(BX13<0,0,IF(BX13>10,10,BX13)),"") -> 10 | BZ14: =IF(BZ11=TRUE,IF(BZ13<0,0,IF(BZ13>10,10,BZ13)),"") -> 10
B15: Kein Test durchgeführt | W15: Mögliche Punkte | X15: =IF(X11=TRUE,10,0) -> 10 | Z15: =IF(Z11=TRUE,10,0) -> 0 | AB15: =IF(AB11=TRUE,10,0) -> 10 | AD15: =IF(AD11=TRUE,10,0) -> 0 | AF15: =IF(AF11=TRUE,10,0) -> 0 | AH15: =IF(AH11=TRUE,10,0) -> 10 | AJ15: =IF(AJ11=TRUE,10,0) -> 10 | AL15: =IF(AL11=TRUE,10,0) -> 10 | AN15: Mögliche Punkte | AP15: =IF(AP11=TRUE,10,0) -> 10 | AR15: =IF(AR11=TRUE,10,0) -> 10 | AT15: =IF(AT11=TRUE,10,0) -> 10 | AV15: =IF(AV11=TRUE,10,0) -> 10 | AW15: Mögliche Punkte | AX15: =IF(AX11=TRUE,10,0) -> 10 | AZ15: =IF(AZ11=TRUE,10,0) -> 10 | BB15: =IF(BB11=TRUE,10,0) -> 10 | BD15: =IF(BD11=TRUE,10,0) -> 0 | BF15: =IF(BF11=TRUE,10,0) -> 0 | BJ15: =IF(BJ11=TRUE,10,0) -> 0 | BL15: =IF(BL11=TRUE,10,0) -> 10 | BN15: 10 | BP15: 10 | BR15: 10 | BT15: 10 | BV15: =IF(BV11=TRUE,10,0) -> 10 | BX15: =IF(BX11=TRUE,10,0) -> 10 | BZ15: =IF(BZ11=TRUE,10,0) -> 10
J17: Überschreitung Grenzwert | M17: =M8/M4 -> 3.45 | O17: =O8/O4 -> 1.2 | Q17: =Q8/Q4 -> 1.4 | S17: =S8/S4 -> 0.1 | U17: =U8/U4 -> 0.025 | W17: Überschreitung Grenzwert | X17: =X8/X4 -> 0.35714286 | Z17: =Z8/Z4 -> 0 | AB17: =AB8/AB4 -> 2.24 | AD17: =AD8/AD4 -> 0 | AF17: =AF8/AF4 -> 0 | AW17: Überschreitung Grenzwert | AX17: =AX8/AX4 -> 0.01 | AZ17: =AZ8/AZ4 -> 1 | BB17: =BB8/BB4 -> 1 | BD17: =BD8/BD4 -> 0 | BF17: =BF8/BF4 -> 0
C18: Punkte | J18: Summe | M18: =SUM(M14:U14) -> 26.375 | W18: Summenberechnung | X18: =IF(X11=TRUE,X14,0) -> 8.2142857 | Z18: =IF(Z11=TRUE,Z14,0) -> 0 | AB18: =IF(AB11=TRUE,AB14,0) -> 0 | AD18: =IF(AD11=TRUE,AD14,0) -> 0 | AF18: =IF(AF11=TRUE,AF14,0) -> 0 | AH18: =IF(AH11=TRUE,AH14,0) -> 8.1123302 | AJ18: =IF(AJ11=TRUE,AJ14,0) -> 0 | AL18: =IF(AL11=TRUE,AL14,0) -> 0 | AP18: =IF(AP11=TRUE,AP14,0) -> 0 | AR18: =IF(AR11=TRUE,AR14,0) -> 5 | AT18: =IF(AT11=TRUE,AT14,0) -> 0 | AV18: =IF(AV11=TRUE,AV14,0) -> 0 | AW18: Summenberechnung | AX18: =IF(AX11=TRUE,AX14,0) -> 9.95 | AZ18: =IF(AZ11=TRUE,AZ14,0) -> 5 | BB18: =IF(BB11=TRUE,BB14,0) -> 5 | BD18: =IF(BD11=TRUE,BD14,0) -> 0 | BF18: =IF(BF11=TRUE,BF14,0) -> 0 | BJ18: =IF(BJ11=TRUE,BJ14,0) -> 0 | BL18: =IF(BL11=TRUE,BL14,0) -> 10
A19: Drop-Down-Menü Abnehmer im Umkreis | B19: Wenige | C19: 0 | F19: Summe | G19: =G14+I14 -> 10.15873 | J19: Prozentualer Anteil Punkte | M19: =M18/50 -> 0.5275 | W19: Summe | X19: =SUM(X18:AV18) -> 21.326616 | AW19: Summe | AX19: =SUM(AX18:BL18) -> 29.95 | BM19: Summe | BN19: =SUM(BN14:BZ14) -> 50.823717
B20: Moderat | C20: 5 | F20: Prozentualer Anteil | G20: =G19/20 -> 0.50793651 | K20: =(M18+K14)/60 -> 0.58591667 | W20: Mögliche Punkte | X20: =SUM(X15:AV15) -> 90 | AW20: Mögliche Punkte | AX20: =SUM(AX15:BL15) -> 40 | BM20: Mögliche Punkte | BN20: =SUM(BN15:BZ15) -> 70
B21: Viele | C21: 10 | W21: Prozentualer Anteil | X21: =X19/X20 -> 0.2369624 | AW21: Prozentualer Anteil | AX21: =AX19/AX20 -> 0.74875 | BM21: Prozentualer Anteil | BN21: =BN19/BN20 -> 0.7260531
A23: Wert gegeben | B23: Ja | K23: Wichtung | BM23: Wärmemenge pro Jahr
B24: Nein | M24: Eisen | O24: Arsen | Q24: Mangan | S24: Aluminium | U24: Zink
J26: Wichtung | M26: =Eingabe!I22 -> 12.814367 | O26: =Eingabe!J22 -> 1 | Q26: =Eingabe!K22 -> 10.509978 | S26: =Eingabe!L22 -> 3.8712778 | U26: =Eingabe!M22 -> 1
C27: Faktor | J27: Summe | M27: =M26+O26+Q26+S26+U26 -> 29.195622
A28: Drop-Down-Menü Sauerstoff | B28: Umfangreich | C28: 4 | J28: Max Gewichtete Punkte | M28: =M26*10 -> 128.14367 | O28: =O26*10 -> 10 | Q28: =Q26*10 -> 105.09978 | S28: =S26*10 -> 38.712778 | U28: =U26*10 -> 10
B29: Moderat | C29: 3 | J29: Summe | M29: =M28+O28+Q28+S28+U28 -> 291.95622
B30: Gering | C30: 2 | J30: Anteil an Gesamtpunkten | M30: =M28/$M$29 -> 0.43891398 | O30: =O28/$M$29 -> 0.03425171 | Q30: =Q28/$M$29 -> 0.35998472 | S30: =S28/$M$29 -> 0.13259789 | U30: =U28/$M$29 -> 0.03425171
B31: Keiner | C31: 1 | J31: Gewichtete Punkte normiert auf 10 | M31: =M30*M14 -> 0 | O31: =O30*O14 -> 0.13700684 | Q31: =Q30*Q14 -> 1.0799541 | S31: =S30*S14 -> 1.2596799 | U31: =U30*U14 -> 0.33823564
J32: Summe | K32: =SUM(M31:U31)*5+K14 -> 22.854383
A33: Drop-Down-Menü WÜ | B33: V,Delta_T_1 | J33: Prozentualer Anteil Punkte | M33: =K32/50 -> 0.45708765
B34: Q,V | K34: =(K32)/60 -> 0.38090638
A36: Drop-Down-Menü Redoxpotenzial | B36: U (Redoxspannung gemessen)
B37: Eh (Redoxpotenzial auf Wasserstoff=0 bezogen) | F37: Ungenauigkeiten
B38: pε (Konzentration redoxwirksame Spezies)
E39: CO2-Äquivalent | G39: Strömungsgeschwindigkeit | H39: Temperatur | K39: pH-Wert | M39: Eisen | O39: Arsen | Q39: Mangan | S39: Aluminium | U39: Zink | X39: TOC | Z39: DOC | AB39: Sulfat | AD39: Nitrat | AF39: Phosphat | AH39: Redox-Potenzial | AJ39: Elektronenakzeptor (O2) | AL39: Elektronendonor | AO39: Bakterientest allgemein | AQ39: Schleimbildende Bakterien | AS39: Sulfatreduzierende Bakterien | AU39: Eisenreduzierende Bakterien | AX39: U | AZ39: Cd | BB39: Pb | BD39: PAK | BF39: PCB | BI39: Coliforme Bakterien | BK39: P.aeruginosa | BN39: Temperatur | BP39: Volumenstrom | BR39: Bohrtiefe | BT39: Anlagenleistung Heizen | BV39: Anlagenleistung Kühlen | BX39: Belegungsdichte Nahwärmenetz | BZ39: Amortisationsdauer
A40: Drop-Down-Menü Vergleichende Energieträger | B40: Erdgas | C40: 0.167 | D40: https://www.bundesnetzagentur.de/DE/Gasversorgung/aktuelle_gasversorgung/_svg/Gaspreise/Gaspreise.html | E40: 0.201 | G40: =SUM('Strömung-Temp-Fouling'!J35:K35) -> 0 | H40: =SUM('Strömung-Temp-Fouling'!J36:K36) -> 0 | I40: Messung | K40: Fehler: | L40: 0.01 | N40: 0.08 | P40: 0.08 | R40: 0.08 | T40: 0.08 | V40: 0.08 | Y40: 0.08 | AA40: 0.08 | AC40: 0.08 | AE40: 0.08 | AG40: 0.08 | AH40: 1 mV | AI40: 1 | AK40: 0.005 | AM40: 0.08 | AP40: 2.5 | AR40: 2.5 | AT40: 2.5 | AV40: 2.5 | AY40: 0.08 | BA40: 0.08 | BC40: 0.08 | BE40: 0.08 | BG40: 0.08 | BJ40: 2.5 | BL40: 2.5 | BO40: 0.5 | BQ40: 0.015 | BS40: 0.1 | BU40: 0.035 | BW40: 0.035 | BY40: 0.1 | CA40: 0.1
